BEGIN:VCALENDAR
VERSION:2.0
PRODID:-//eventon.com NONSGML v1.0//EN
CALSCALE:GREGORIAN
METHOD:PUBLISH
BEGIN:VEVENT
UID:69e48dbf7d2fd
DTSTAMP:20260419T080935Z
DTSTART:20241001T180000Z
DTEND:20241001T200000Z
LOCATION:
SUMMARY:Soundtrack of the Plastic Age @ Enschede
DESCRIPTION:\nhttps://sjaakvandam.nl/artiest/events/beat-plastic-waste-ensc
 hede-2/
URL:https://sjaakvandam.nl/artiest/events/beat-plastic-waste-enschede-2/
END:VEVENT
END:VCALENDAR