BEGIN:VCALENDAR
VERSION:2.0
PRODID:-//eventon.com NONSGML v1.0//EN
CALSCALE:GREGORIAN
METHOD:PUBLISH
BEGIN:VEVENT
UID:69e48dc4df57d
DTSTAMP:20260419T080940Z
DTSTART:20250511T110000Z
DTEND:20250511T150000Z
LOCATION:
SUMMARY:Festival Assisië - Biezenmortel (Show 3/3)
DESCRIPTION:\nhttps://sjaakvandam.nl/artiest/events/tba-biezenmortel-show-3
 -3/
URL:https://sjaakvandam.nl/artiest/events/tba-biezenmortel-show-3-3/
END:VEVENT
END:VCALENDAR