BEGIN:VCALENDAR
VERSION:2.0
PRODID:-//eventon.com NONSGML v1.0//EN
CALSCALE:GREGORIAN
METHOD:PUBLISH
BEGIN:VEVENT
UID:69e48dc48075b
DTSTAMP:20260419T080940Z
DTSTART:20250614T110000Z
DTEND:20250614T150000Z
LOCATION:
SUMMARY:ICAF Hub\,  The Gathering - Singapore / Day 5
DESCRIPTION:\nhttps://sjaakvandam.nl/artiest/events/icaf-hub-the-gathering-
 singapore-day-5/
URL:https://sjaakvandam.nl/artiest/events/icaf-hub-the-gathering-singapore-day-5/
END:VEVENT
END:VCALENDAR