BEGIN:VCALENDAR
VERSION:2.0
PRODID:-//eventon.com NONSGML v1.0//EN
CALSCALE:GREGORIAN
METHOD:PUBLISH
BEGIN:VEVENT
UID:69e738e65cbc9
DTSTAMP:20260421T084422Z
DTSTART:20260707T140000Z
DTEND:20260707T150000Z
LOCATION:
SUMMARY:Wonderfeel Festival\,  Baarn
DESCRIPTION:\nhttps://sjaakvandam.nl/artist/events/soundtrack-of-the-plasti
 c-age-wonderfeel-festival-baarn/
URL:https://sjaakvandam.nl/artist/events/soundtrack-of-the-plastic-age-wonderfeel-festival-baarn/
END:VEVENT
END:VCALENDAR